BEGIN:VCALENDAR
VERSION:2.0
PRODID:-//Sarasota University - ECPv6.15.20//NONSGML v1.0//EN
CALSCALE:GREGORIAN
METHOD:PUBLISH
X-ORIGINAL-URL:https://www.sarasotauniversity.edu
X-WR-CALDESC:Events for Sarasota University
REFRESH-INTERVAL;VALUE=DURATION:PT1H
X-Robots-Tag:noindex
X-PUBLISHED-TTL:PT1H
BEGIN:VTIMEZONE
TZID:America/New_York
BEGIN:DAYLIGHT
TZOFFSETFROM:-0500
TZOFFSETTO:-0400
TZNAME:EDT
DTSTART:20220313T070000
END:DAYLIGHT
BEGIN:STANDARD
TZOFFSETFROM:-0400
TZOFFSETTO:-0500
TZNAME:EST
DTSTART:20221106T060000
END:STANDARD
BEGIN:DAYLIGHT
TZOFFSETFROM:-0500
TZOFFSETTO:-0400
TZNAME:EDT
DTSTART:20230312T070000
END:DAYLIGHT
BEGIN:STANDARD
TZOFFSETFROM:-0400
TZOFFSETTO:-0500
TZNAME:EST
DTSTART:20231105T060000
END:STANDARD
BEGIN:DAYLIGHT
TZOFFSETFROM:-0500
TZOFFSETTO:-0400
TZNAME:EDT
DTSTART:20240310T070000
END:DAYLIGHT
BEGIN:STANDARD
TZOFFSETFROM:-0400
TZOFFSETTO:-0500
TZNAME:EST
DTSTART:20241103T060000
END:STANDARD
END:VTIMEZONE
BEGIN:VEVENT
DTSTART;TZID=America/New_York:20230629T190000
DTEND;TZID=America/New_York:20230629T200000
DTSTAMP:20260423T093039
CREATED:20230612T210311Z
LAST-MODIFIED:20230615T173318Z
UID:14703-1688065200-1688068800@www.sarasotauniversity.edu
SUMMARY:Info Session
DESCRIPTION:Expand your knowledge of Montessori\, education\, children\, life\, leadership\, and learning this August! \nJoin us on June 29 at 7pm ET for an information session on our programs. You’ll meet with our Admissions Director\, Ellyn Lastinger\, and learn more about the history of SU\, our programs\, approach to strengths-based learning\, and how to apply. \nTo register\, click here. If you have any questions in the meantime\, send us an email at info@sarasotauniversity.edu and we’ll be in touch! \n 
URL:https://www.sarasotauniversity.edu/event/info-session/
ATTACH;FMTTYPE=image/png:https://www.sarasotauniversity.edu/wp-content/uploads/2023/06/infosessionjune.png
END:VEVENT
END:VCALENDAR