BEGIN:VCALENDAR
VERSION:2.0
PRODID:-//Sarasota University - ECPv6.15.20//NONSGML v1.0//EN
CALSCALE:GREGORIAN
METHOD:PUBLISH
X-WR-CALNAME:Sarasota University
X-ORIGINAL-URL:https://www.sarasotauniversity.edu
X-WR-CALDESC:Events for Sarasota University
REFRESH-INTERVAL;VALUE=DURATION:PT1H
X-Robots-Tag:noindex
X-PUBLISHED-TTL:PT1H
BEGIN:VTIMEZONE
TZID:America/New_York
BEGIN:DAYLIGHT
TZOFFSETFROM:-0500
TZOFFSETTO:-0400
TZNAME:EDT
DTSTART:20230312T070000
END:DAYLIGHT
BEGIN:STANDARD
TZOFFSETFROM:-0400
TZOFFSETTO:-0500
TZNAME:EST
DTSTART:20231105T060000
END:STANDARD
BEGIN:DAYLIGHT
TZOFFSETFROM:-0500
TZOFFSETTO:-0400
TZNAME:EDT
DTSTART:20240310T070000
END:DAYLIGHT
BEGIN:STANDARD
TZOFFSETFROM:-0400
TZOFFSETTO:-0500
TZNAME:EST
DTSTART:20241103T060000
END:STANDARD
BEGIN:DAYLIGHT
TZOFFSETFROM:-0500
TZOFFSETTO:-0400
TZNAME:EDT
DTSTART:20250309T070000
END:DAYLIGHT
BEGIN:STANDARD
TZOFFSETFROM:-0400
TZOFFSETTO:-0500
TZNAME:EST
DTSTART:20251102T060000
END:STANDARD
END:VTIMEZONE
BEGIN:VEVENT
DTSTART;TZID=America/New_York:20240220T190000
DTEND;TZID=America/New_York:20240220T200000
DTSTAMP:20260423T055142
CREATED:20240125T235330Z
LAST-MODIFIED:20240125T235417Z
UID:16139-1708455600-1708459200@www.sarasotauniversity.edu
SUMMARY:(FREE) Montessori Colloquium : Lovescaping in Education: A Talk by Irene Greaves
DESCRIPTION:Irene Greaves\, an accomplished educator and Lovescaper with an M.Ed. from The University of Pennsylvania\, is on a mission to redefine education through the power of love in action. Join the author\, founder\, and CEO of Lovescaping on February 20th at 7pm ET for a transformative presentation. Discover how Lovescaping\, a philosophy of life and an educational framework\, cultivates the 15 pillars of love in action. Explore the profound impact of humility\, empathy\, respect\, communication\, care\, compassion\, and more on education and life. Don’t miss this opportunity to learn from a visionary educator who believes that practicing love in action should be the paramount purpose of education. \nPlease register in advance for this meeting\, and feel free to share the registration link with your friends and colleagues: \nhttps://zoom.us/meeting/register/tJ0tduqgqDIqHdBKhZDbWq9RRWXCGNZyZlL0 \nAfter registering\, you will receive a confirmation email containing information about joining the meeting. \nAbout Irene Greaves: \nIrene Greaves is a passionate educator and Lovescaper. She has an M.Ed. from The University of Pennsylvania and believes learning to practice love in action should be the most important purpose of education. She is the Author\, Founder and CEO of Lovescaping\, her philosophy of life and pedagogy of love based on her global life experience\, turned educational framework to teach and cultivate the 15 pillars of love in action: humility\, empathy\, respect\, communication\, care\, compassion\, patience\, honesty\, vulnerability\, trust\, solidarity\, liberation\, gratitude\, forgiveness\, and hope.
URL:https://www.sarasotauniversity.edu/event/free-montessori-colloquium-lovescaping-in-education-a-talk-by-irene-greaves/
ATTACH;FMTTYPE=image/png:https://www.sarasotauniversity.edu/wp-content/uploads/2024/01/Feb-Colloquium-Irene-Info-Image-e1706226768816.png
END:VEVENT
END:VCALENDAR