BEGIN:VCALENDAR
VERSION:2.0
PRODID:-//Sarasota University - ECPv6.15.20//NONSGML v1.0//EN
CALSCALE:GREGORIAN
METHOD:PUBLISH
X-WR-CALNAME:Sarasota University
X-ORIGINAL-URL:https://www.sarasotauniversity.edu
X-WR-CALDESC:Events for Sarasota University
REFRESH-INTERVAL;VALUE=DURATION:PT1H
X-Robots-Tag:noindex
X-PUBLISHED-TTL:PT1H
BEGIN:VTIMEZONE
TZID:America/New_York
BEGIN:DAYLIGHT
TZOFFSETFROM:-0500
TZOFFSETTO:-0400
TZNAME:EDT
DTSTART:20230312T070000
END:DAYLIGHT
BEGIN:STANDARD
TZOFFSETFROM:-0400
TZOFFSETTO:-0500
TZNAME:EST
DTSTART:20231105T060000
END:STANDARD
BEGIN:DAYLIGHT
TZOFFSETFROM:-0500
TZOFFSETTO:-0400
TZNAME:EDT
DTSTART:20240310T070000
END:DAYLIGHT
BEGIN:STANDARD
TZOFFSETFROM:-0400
TZOFFSETTO:-0500
TZNAME:EST
DTSTART:20241103T060000
END:STANDARD
BEGIN:DAYLIGHT
TZOFFSETFROM:-0500
TZOFFSETTO:-0400
TZNAME:EDT
DTSTART:20250309T070000
END:DAYLIGHT
BEGIN:STANDARD
TZOFFSETFROM:-0400
TZOFFSETTO:-0500
TZNAME:EST
DTSTART:20251102T060000
END:STANDARD
END:VTIMEZONE
BEGIN:VEVENT
DTSTART;TZID=America/New_York:20240223T120000
DTEND;TZID=America/New_York:20240223T190000
DTSTAMP:20260423T055646
CREATED:20240130T145511Z
LAST-MODIFIED:20240130T145511Z
UID:16241-1708689600-1708714800@www.sarasotauniversity.edu
SUMMARY:Virtual Information Session (FREE)
DESCRIPTION:Join us on Friday\, February 23rd at 12:00 p.m. or 7 p.m. ET for a virtual information session about our graduate degree programs in Montessori Education and Montessori Leadership. \nYou’ll meet with member of our Administrative team who will discuss: \n\nThe history of Sarasota University\nOur current program offerings and how to pick the best one for you based on your current position and future goals.\nWhat strengths-based learning is\, and how we incorporate this philosophy into our curriculum to ensure each student has the opportunity to develop their skills based on their own strengths.\nOur faculty and staff\, who bring research\, experience\, and passion into the virtual classroom.\nThe application process and the next steps on enrolling.\n\nTo register\, please visit https://bit.ly/3uk7tSy. The info session will be held on Zoom and a confirmation email will be sent to you with the link!
URL:https://www.sarasotauniversity.edu/event/virtual-information-session-free-3/
ATTACH;FMTTYPE=image/jpeg:https://www.sarasotauniversity.edu/wp-content/uploads/2023/12/SU-Info-Sessions-Upcoming-Events-Promo-Content-Facebook-Cover.jpeg
END:VEVENT
END:VCALENDAR