BEGIN:VCALENDAR
VERSION:2.0
PRODID:-//Sarasota University - ECPv6.15.20//NONSGML v1.0//EN
CALSCALE:GREGORIAN
METHOD:PUBLISH
X-WR-CALNAME:Sarasota University
X-ORIGINAL-URL:https://www.sarasotauniversity.edu
X-WR-CALDESC:Events for Sarasota University
REFRESH-INTERVAL;VALUE=DURATION:PT1H
X-Robots-Tag:noindex
X-PUBLISHED-TTL:PT1H
BEGIN:VTIMEZONE
TZID:America/New_York
BEGIN:DAYLIGHT
TZOFFSETFROM:-0500
TZOFFSETTO:-0400
TZNAME:EDT
DTSTART:20230312T070000
END:DAYLIGHT
BEGIN:STANDARD
TZOFFSETFROM:-0400
TZOFFSETTO:-0500
TZNAME:EST
DTSTART:20231105T060000
END:STANDARD
BEGIN:DAYLIGHT
TZOFFSETFROM:-0500
TZOFFSETTO:-0400
TZNAME:EDT
DTSTART:20240310T070000
END:DAYLIGHT
BEGIN:STANDARD
TZOFFSETFROM:-0400
TZOFFSETTO:-0500
TZNAME:EST
DTSTART:20241103T060000
END:STANDARD
BEGIN:DAYLIGHT
TZOFFSETFROM:-0500
TZOFFSETTO:-0400
TZNAME:EDT
DTSTART:20250309T070000
END:DAYLIGHT
BEGIN:STANDARD
TZOFFSETFROM:-0400
TZOFFSETTO:-0500
TZNAME:EST
DTSTART:20251102T060000
END:STANDARD
END:VTIMEZONE
BEGIN:VEVENT
DTSTART;TZID=America/New_York:20241024T080000
DTEND;TZID=America/New_York:20241028T170000
DTSTAMP:20260423T070604
CREATED:20240807T152638Z
LAST-MODIFIED:20240807T152638Z
UID:17158-1729756800-1730134800@www.sarasotauniversity.edu
SUMMARY:Visit Our Booth! IMC Conference - Atlanta\, Georgia
DESCRIPTION:We’re thrilled to be exhibiting at the IMC Conference in Atlanta! If you’re in town\, be sure to stop by our booth to meet our amazing faculty and staff and even reconnect with your fellow alumni! \n  \nIMC Conference: \nThis is a conference like no other. For more than 25 years\, we have created a prepared Montessori learning environment for school leaders\, Montessori educators\, and parents. Come rediscover the sense of community\, connection\, and celebration that make our conferences unique.
URL:https://www.sarasotauniversity.edu/event/visit-our-booth-imc-conference-atlanta-georgia/
END:VEVENT
END:VCALENDAR