BEGIN:VCALENDAR
VERSION:2.0
PRODID:-//Sarasota University - ECPv6.15.20//NONSGML v1.0//EN
CALSCALE:GREGORIAN
METHOD:PUBLISH
X-WR-CALNAME:Sarasota University
X-ORIGINAL-URL:https://www.sarasotauniversity.edu
X-WR-CALDESC:Events for Sarasota University
REFRESH-INTERVAL;VALUE=DURATION:PT1H
X-Robots-Tag:noindex
X-PUBLISHED-TTL:PT1H
BEGIN:VTIMEZONE
TZID:America/New_York
BEGIN:DAYLIGHT
TZOFFSETFROM:-0500
TZOFFSETTO:-0400
TZNAME:EDT
DTSTART:20230312T070000
END:DAYLIGHT
BEGIN:STANDARD
TZOFFSETFROM:-0400
TZOFFSETTO:-0500
TZNAME:EST
DTSTART:20231105T060000
END:STANDARD
BEGIN:DAYLIGHT
TZOFFSETFROM:-0500
TZOFFSETTO:-0400
TZNAME:EDT
DTSTART:20240310T070000
END:DAYLIGHT
BEGIN:STANDARD
TZOFFSETFROM:-0400
TZOFFSETTO:-0500
TZNAME:EST
DTSTART:20241103T060000
END:STANDARD
BEGIN:DAYLIGHT
TZOFFSETFROM:-0500
TZOFFSETTO:-0400
TZNAME:EDT
DTSTART:20250309T070000
END:DAYLIGHT
BEGIN:STANDARD
TZOFFSETFROM:-0400
TZOFFSETTO:-0500
TZNAME:EST
DTSTART:20251102T060000
END:STANDARD
END:VTIMEZONE
BEGIN:VEVENT
DTSTART;TZID=America/New_York:20241119T190000
DTEND;TZID=America/New_York:20241119T200000
DTSTAMP:20260423T071002
CREATED:20241017T141409Z
LAST-MODIFIED:20241017T141512Z
UID:17836-1732042800-1732046400@www.sarasotauniversity.edu
SUMMARY:(FREE) Montessori Colloquium : Bridging Borders: Global Educational Connections for Empowering Diverse Communities
DESCRIPTION:Join Sarasota University and John Tovar on November 19th\, at 7:00 PM ET to explore and discuss Bridging Borders: Global Educational Connections for Empowering Diverse Communities \nThis session will explore how international educational initiatives can connect communities\, create inclusive learning environments\, and empower individuals from underserved regions. By examining CEADA’s work in fostering cross-cultural academic opportunities\, attendees will gain insights into building sustainable global educational connections that support equitable access to knowledge and community development. \nDon’t miss this opportunity to learn more about empowering diverse communities! \nPlease register in advance for this meeting\, and feel free to share the registration link with your friends and colleagues:\n\nhttps://zoom.us/meeting/register/tJ0tduqgqDIqHdBKhZDbWq9RRWXCGNZyZlL0 \nAfter registering\, you will receive a confirmation email containing information about joining the meeting. \n\nAbout John Tovar \nJohn Tovar is a passionate advocate for global education and the founder of CEADA\, an organization dedicated to advancing educational equity and academic mobility for marginalized communities. As an experienced program manager and scholar\, John’s work emphasizes connecting underserved communities with transformative educational opportunities worldwide. His projects highlight the power of cross-cultural collaboration in fostering resilient\, sustainable learning ecosystems.
URL:https://www.sarasotauniversity.edu/event/free-montessori-colloquium-bridging-borders-global-educational-connections-for-empowering-diverse-communities/
ATTACH;FMTTYPE=image/png:https://www.sarasotauniversity.edu/wp-content/uploads/2024/10/John.png
END:VEVENT
END:VCALENDAR