BEGIN:VCALENDAR
VERSION:2.0
PRODID:-//Sarasota University - ECPv6.15.20//NONSGML v1.0//EN
CALSCALE:GREGORIAN
METHOD:PUBLISH
X-WR-CALNAME:Sarasota University
X-ORIGINAL-URL:https://www.sarasotauniversity.edu
X-WR-CALDESC:Events for Sarasota University
REFRESH-INTERVAL;VALUE=DURATION:PT1H
X-Robots-Tag:noindex
X-PUBLISHED-TTL:PT1H
BEGIN:VTIMEZONE
TZID:America/New_York
BEGIN:DAYLIGHT
TZOFFSETFROM:-0500
TZOFFSETTO:-0400
TZNAME:EDT
DTSTART:20240310T070000
END:DAYLIGHT
BEGIN:STANDARD
TZOFFSETFROM:-0400
TZOFFSETTO:-0500
TZNAME:EST
DTSTART:20241103T060000
END:STANDARD
BEGIN:DAYLIGHT
TZOFFSETFROM:-0500
TZOFFSETTO:-0400
TZNAME:EDT
DTSTART:20250309T070000
END:DAYLIGHT
BEGIN:STANDARD
TZOFFSETFROM:-0400
TZOFFSETTO:-0500
TZNAME:EST
DTSTART:20251102T060000
END:STANDARD
BEGIN:DAYLIGHT
TZOFFSETFROM:-0500
TZOFFSETTO:-0400
TZNAME:EDT
DTSTART:20260308T070000
END:DAYLIGHT
BEGIN:STANDARD
TZOFFSETFROM:-0400
TZOFFSETTO:-0500
TZNAME:EST
DTSTART:20261101T060000
END:STANDARD
END:VTIMEZONE
BEGIN:VEVENT
DTSTART;TZID=America/New_York:20250218T190000
DTEND;TZID=America/New_York:20250218T200000
DTSTAMP:20260423T033205
CREATED:20250127T150754Z
LAST-MODIFIED:20250127T152643Z
UID:18109-1739905200-1739908800@www.sarasotauniversity.edu
SUMMARY:(FREE) Montessori Colloquium : The Fishes Wishes with Ryan Moralevitz
DESCRIPTION:Dive into the fascinating world of ocean conservation with Ryan Moralevitz as he shares his fourteen-year journey of protecting our planet’s waters. In this inspiring presentation\, Ryan will reveal incredible facts about the ocean\, why it’s vital to our planet’s health\, and practical tips anyone can use to help keep it clean and thriving. Whether you’re a passionate ocean advocate or simply curious about conservation\, this event will leave you inspired and empowered to make a difference. \nDon’t miss this opportunity to learn how you can contribute to a healthier\, more vibrant ocean! 🌊 \nPlease register in advance for this meeting\, and feel free to share the registration link with your friends and colleagues:\n\nhttps://zoom.us/meeting/register/tJ0tduqgqDIqHdBKhZDbWq9RRWXCGNZyZlL0 \nAfter registering\, you will receive a confirmation email containing information about joining the meeting. \nAbout Ryan Moralevitz \n\n\n\nRyan is an eighteen-year-old conservationist who has been helping the ocean through his project\, The Fishes Wishes\, since he was four years old. Through The Fishes Wishes he has hosted sea oat and mangrove plantings\, organized many beach cleanups\, and\, over the last few years\, developed a passion for making upcycled sculptures out of beach-found trash to raise awareness of the sheer amount of plastic pollution that plagues the oceans. His goal is to educate and inspire youth about the many problems our ocean faces while also striving to make the seas clean and thriving for all the animals that call it home. \n\n\n\n\nCertificate of Attendance \nUpon the completion of this session\, all attendees are welcome to fill out our 3-2-1 form and receive their certificate of attendance. If you missed the live session\, you may watch the recording from our YouTube channel and complete the 3-2-1 form at a later date. \nReceive My Certificate of Attendance \n\n\n 
URL:https://www.sarasotauniversity.edu/event/free-montessori-colloquium-the-fishes-wishes-with-ryan/
ATTACH;FMTTYPE=image/png:https://www.sarasotauniversity.edu/wp-content/uploads/2025/01/SU-COLLOQUIUM-HEADER-1.png
END:VEVENT
END:VCALENDAR