BEGIN:VCALENDAR
VERSION:2.0
PRODID:-//Sarasota University - ECPv6.15.20//NONSGML v1.0//EN
CALSCALE:GREGORIAN
METHOD:PUBLISH
X-ORIGINAL-URL:https://www.sarasotauniversity.edu
X-WR-CALDESC:Events for Sarasota University
REFRESH-INTERVAL;VALUE=DURATION:PT1H
X-Robots-Tag:noindex
X-PUBLISHED-TTL:PT1H
BEGIN:VTIMEZONE
TZID:America/New_York
BEGIN:DAYLIGHT
TZOFFSETFROM:-0500
TZOFFSETTO:-0400
TZNAME:EDT
DTSTART:20220313T070000
END:DAYLIGHT
BEGIN:STANDARD
TZOFFSETFROM:-0400
TZOFFSETTO:-0500
TZNAME:EST
DTSTART:20221106T060000
END:STANDARD
BEGIN:DAYLIGHT
TZOFFSETFROM:-0500
TZOFFSETTO:-0400
TZNAME:EDT
DTSTART:20230312T070000
END:DAYLIGHT
BEGIN:STANDARD
TZOFFSETFROM:-0400
TZOFFSETTO:-0500
TZNAME:EST
DTSTART:20231105T060000
END:STANDARD
BEGIN:DAYLIGHT
TZOFFSETFROM:-0500
TZOFFSETTO:-0400
TZNAME:EDT
DTSTART:20240310T070000
END:DAYLIGHT
BEGIN:STANDARD
TZOFFSETFROM:-0400
TZOFFSETTO:-0500
TZNAME:EST
DTSTART:20241103T060000
END:STANDARD
END:VTIMEZONE
BEGIN:VEVENT
DTSTART;TZID=America/New_York:20230413T200000
DTEND;TZID=America/New_York:20230413T210000
DTSTAMP:20260423T115442
CREATED:20230404T162724Z
LAST-MODIFIED:20230404T163139Z
UID:13701-1681416000-1681419600@www.sarasotauniversity.edu
SUMMARY:Graduate Program Information Session
DESCRIPTION:Sarasota University\, a true Montessori-focused institution of higher education\, is reshaping the direction of Montessori higher education. We invite you join us on April 13 at 8pm ET to find out about the school’s Masters programs designed for Montessori Educators!\n\n\n\n Our Director of College\, Dr. Robin Howe\, will lead the meeting and discuss:\n\n\n\n\nThe history of Sarasota University.\n\n\n\n\nOur current program offerings and how to pick the best one for you based on your current position and future goals.\n\n\n\n\nWhat strengths-based learning is\, and how we incorporate this philosophy into our curriculum to ensure each student has the opportunity to develop their skills based on their own strengths.\n\n\n\n\nOur faculty and staff\, who bring research\, experience\, and passion into the virtual classroom.\n\n\n\n\nThe application process and the next steps on enrolling.\n\n\n\nTo register for the info session\, register HERE! \nYou will receive an email with additional information. Please check your spam/junk folder if you don’t receive a message. \nQuestions? Please reach out to info@sarasotauniversity.edu!
URL:https://www.sarasotauniversity.edu/event/graduate-program-information-session/
ATTACH;FMTTYPE=image/jpeg:https://www.sarasotauniversity.edu/wp-content/uploads/2023/03/pexels-cottonbro-studio-5052851-1.jpg
END:VEVENT
BEGIN:VEVENT
DTSTART;TZID=America/New_York:20230419T190000
DTEND;TZID=America/New_York:20230419T200000
DTSTAMP:20260423T115442
CREATED:20230407T154039Z
LAST-MODIFIED:20230412T130139Z
UID:13740-1681930800-1681934400@www.sarasotauniversity.edu
SUMMARY:April Colloquium w/ Ann Winkler (FREE)
DESCRIPTION:Join Ann Winkler on Wednesday\, 4/19 at 7pm ET for a discussion of the role of Cosmic Education in the Montessori elementary classroom. We will examine how and why Cosmic Education is the foundation of the elementary curriculum. We’ll focus on the chart of interdependencies and the relationships and connections that are evident within it. We can see how these relationships can lead us to plan creative impressionistic lessons that meet the needs of our learners. Projects\, collaborative learning and unit study development will be part of the discussion. \nThere is no fee to attend this event. Please register in advance for this meeting:\nhttps://us02web.zoom.us/meeting/register/tZUqcOmuqzksHtX-JeuDHy8o9xMCmnij4GjD \nAfter registering\, you will receive a confirmation email containing information about joining the meeting. \nAbout Ann Winkler \nAnn has worked in Montessori education for over forty years. She began the journey when her children enrolled at the Barrie School in Maryland and she became the Registered Nurse there. \nAnn has been the director and developer of CGMS Elementary since inception and has been a residential instructor at every residency since 2009.  As the owner of Beach Park School in Tampa\, Florida\, Ann taught the EL 2 (9-12) level\, and continues now as Director of Education at the school. Ann holds a Montessori credential in Primary (3–6) and Elementary (6-12) through AMS.  She has an R.N. degree\, a Bachelor of Arts degree\, and a Masters in Education. \nAnn enjoys making Montessori materials and books in her spare time.
URL:https://www.sarasotauniversity.edu/event/april-colloquium-w-ann-winkler-free/
ATTACH;FMTTYPE=image/png:https://www.sarasotauniversity.edu/wp-content/uploads/2023/04/AW-SU.png
END:VEVENT
END:VCALENDAR