BEGIN:VCALENDAR
VERSION:2.0
PRODID:-//Sarasota University - ECPv6.15.20//NONSGML v1.0//EN
CALSCALE:GREGORIAN
METHOD:PUBLISH
X-ORIGINAL-URL:https://www.sarasotauniversity.edu
X-WR-CALDESC:Events for Sarasota University
REFRESH-INTERVAL;VALUE=DURATION:PT1H
X-Robots-Tag:noindex
X-PUBLISHED-TTL:PT1H
BEGIN:VTIMEZONE
TZID:America/New_York
BEGIN:DAYLIGHT
TZOFFSETFROM:-0500
TZOFFSETTO:-0400
TZNAME:EDT
DTSTART:20220313T070000
END:DAYLIGHT
BEGIN:STANDARD
TZOFFSETFROM:-0400
TZOFFSETTO:-0500
TZNAME:EST
DTSTART:20221106T060000
END:STANDARD
BEGIN:DAYLIGHT
TZOFFSETFROM:-0500
TZOFFSETTO:-0400
TZNAME:EDT
DTSTART:20230312T070000
END:DAYLIGHT
BEGIN:STANDARD
TZOFFSETFROM:-0400
TZOFFSETTO:-0500
TZNAME:EST
DTSTART:20231105T060000
END:STANDARD
BEGIN:DAYLIGHT
TZOFFSETFROM:-0500
TZOFFSETTO:-0400
TZNAME:EDT
DTSTART:20240310T070000
END:DAYLIGHT
BEGIN:STANDARD
TZOFFSETFROM:-0400
TZOFFSETTO:-0500
TZNAME:EST
DTSTART:20241103T060000
END:STANDARD
END:VTIMEZONE
BEGIN:VEVENT
DTSTART;TZID=America/New_York:20231115T190000
DTEND;TZID=America/New_York:20231115T200000
DTSTAMP:20260423T033348
CREATED:20231108T135627Z
LAST-MODIFIED:20231108T135813Z
UID:15184-1700074800-1700078400@www.sarasotauniversity.edu
SUMMARY:November Colloquium w/ Dr. Lorenz (FREE)
DESCRIPTION:We are thrilled to announce that on November 15th\, at 7 p.m. ET\, Dr. Lorenz\, a tenured professor of education studies and educator in human development and early education\, will be honoring the life and legacy of Dr. Maria Montessori at this month’s colloquium. As Dr. Lorenz prepares to delve into the profound impact of Dr. Montessori’s innovative methods we invite you to join us for an enlightening and engaging exploration of Dr. Maria Montessori’s remarkable journey and influence on the world of education. \nPlease register in advance for this meeting\, and feel free to share the registration link with your friends and colleagues: \nhttps://zoom.us/meeting/register/tJ0tduqgqDIqHdBKhZDbWq9RRWXCGNZyZlL0 \nAfter registering\, you will receive a confirmation email containing information about joining the meeting. \n  \nAbout Dr. Lorenz \nDr. Norman Lorenz is a tenured Professor of Education Studies\, teaches Human Development and early education\, and is a faculty cohort member of the First Year Seminar for freshman college student success at Sacramento City College in Sacramento\, CA. With over 40 years of education and experience within school systems\, including 26 years of direct service in Montessori primary and elementary education\, the direction of a postsecondary Montessori teacher education accredited institution\, and a combined part-time and full-time faculty dedication of 25 years with the California community college system incorporating Montessori into higher education pedagogy for student success\, Dr. Lorenz brings a sense of expertise\, leadership\, and commitment to the Montessori education world. \n 
URL:https://www.sarasotauniversity.edu/event/november-colloquium-w-dr-lorenz-free/
ATTACH;FMTTYPE=image/png:https://www.sarasotauniversity.edu/wp-content/uploads/2023/11/2.png
END:VEVENT
BEGIN:VEVENT
DTSTART;TZID=America/New_York:20231120T100000
DTEND;TZID=America/New_York:20231120T180000
DTSTAMP:20260423T033348
CREATED:20231118T230705Z
LAST-MODIFIED:20231118T231627Z
UID:15225-1700474400-1700503200@www.sarasotauniversity.edu
SUMMARY:Virtual Information Session (FREE)
DESCRIPTION:LEARN MORE ABOUT SARASOTA UNIVERSITY! \nJoin us on Monday\, November 20th at 10:00am or 6 p.m CT for a virtual information session about our graduate degree programs in Montessori Education and Montessori Leadership. \nYou’ll meet with member of our Administrative team who will discuss: \n\nThe history of Sarasota University\nOur current program offerings and how to pick the best one for you based on your current position and future goals.\nWhat strengths-based learning is\, and how we incorporate this philosophy into our curriculum to ensure each student has the opportunity to develop their skills based on their own strengths.\nOur faculty and staff\, who bring research\, experience\, and passion into the virtual classroom.\nThe application process and the next steps on enrolling.\n\nTo register\, please visit https://bit.ly/3uk7tSy. The info session will be held on Zoom and a confirmation email will be sent to you with the link!
URL:https://www.sarasotauniversity.edu/event/virtual-information-session-free/
ATTACH;FMTTYPE=image/jpeg:https://www.sarasotauniversity.edu/wp-content/uploads/2023/11/November-20th-Info-session.jpg
END:VEVENT
END:VCALENDAR