BEGIN:VCALENDAR
VERSION:2.0
PRODID:-//Sarasota University - ECPv6.15.20//NONSGML v1.0//EN
CALSCALE:GREGORIAN
METHOD:PUBLISH
X-ORIGINAL-URL:https://www.sarasotauniversity.edu
X-WR-CALDESC:Events for Sarasota University
REFRESH-INTERVAL;VALUE=DURATION:PT1H
X-Robots-Tag:noindex
X-PUBLISHED-TTL:PT1H
BEGIN:VTIMEZONE
TZID:America/New_York
BEGIN:DAYLIGHT
TZOFFSETFROM:-0500
TZOFFSETTO:-0400
TZNAME:EDT
DTSTART:20230312T070000
END:DAYLIGHT
BEGIN:STANDARD
TZOFFSETFROM:-0400
TZOFFSETTO:-0500
TZNAME:EST
DTSTART:20231105T060000
END:STANDARD
BEGIN:DAYLIGHT
TZOFFSETFROM:-0500
TZOFFSETTO:-0400
TZNAME:EDT
DTSTART:20240310T070000
END:DAYLIGHT
BEGIN:STANDARD
TZOFFSETFROM:-0400
TZOFFSETTO:-0500
TZNAME:EST
DTSTART:20241103T060000
END:STANDARD
BEGIN:DAYLIGHT
TZOFFSETFROM:-0500
TZOFFSETTO:-0400
TZNAME:EDT
DTSTART:20250309T070000
END:DAYLIGHT
BEGIN:STANDARD
TZOFFSETFROM:-0400
TZOFFSETTO:-0500
TZNAME:EST
DTSTART:20251102T060000
END:STANDARD
END:VTIMEZONE
BEGIN:VEVENT
DTSTART;TZID=America/New_York:20240319T190000
DTEND;TZID=America/New_York:20240319T203000
DTSTAMP:20260423T055412
CREATED:20240305T172036Z
LAST-MODIFIED:20240305T172111Z
UID:16460-1710874800-1710880200@www.sarasotauniversity.edu
SUMMARY:(FREE) Montessori Colloquium: Courageous Conversation With Cassi Mackey
DESCRIPTION:Join Sarasota University and Cassi Mackey on March 19th at 7PM ET for an insightful webinar on Courages Conversations. When you think of Courageous Conversation\, think connection\, understanding\, integrity\, authenticity\, empathy\, and curiosity.  Think school transformation. \nWhen school communities embrace and practice Courageous Conversations it enhances the faculty and staff’s capacity to serve as effective agents of success\, it provides structure for the highest level of collaboration\, alignment\, and partnership within the school community\, and it helps with sustainable change. It allows us to live up to our highest potential as Montessori practitioners. \nWe invite Montessori schools to create a culture that engages in Courageous Conversation as a community practice\, creating a community that actively brings issues to the surface challenges and celebrates the thinking and logic of differing points of view\, thereby managing problems and discussing concerns that may otherwise go unaddressed and unresolved. Effects can range from minimizing gossip and venting to the building of trust in and consistency of a community’s handling of difficult issues. \nAnd since we cannot teach what we do not practice\, teachers’ understanding of and willingness to engage in Courageous Conversation is imperative to help ourselves\, our families\, and our  students develop intrapersonal and interpersonal skills. Courageous Conversations are important in both the school\, classroom community\, and in homes. \nPlease register in advance for this meeting\, and feel free to share the registration link with your friends and colleagues: \nhttps://zoom.us/meeting/register/tJ0tduqgqDIqHdBKhZDbWq9RRWXCGNZyZlL0 \nAfter registering\, you will receive a confirmation email containing information about joining the meeting. \nAbout Cassi Mackey: \nCassi Mackey\, M.Ed.\, has been in the Montessori field for 30 years as a Montessori lead teacher and Montessori school principal. She is currently an American Montessori Society (AMS) School Accreditation Commissioner\, a trainer for the Association Montessori Internationale (AMI) Administrators Certificate Course\, an Instructional Guide for the Center for Guided Montessori Studies (CGMS) Leadership Certification Program\, and a mentor for the Greenspring Center for Lifelong Learning Leadership Mentor Community. She has also completed the AMS Anti-bias Anti-racist certification course and is active in AMI’s Voices of Educateurs san Frontiéres. Cassi consults and provides advice to Montessori communities that are intent on generating positive and lasting change through the Montessori pedagogy.  \nFun fact. Cassi taught with her husband\, Pete\, in an upper elementary classroom and their dog\, Truck\, was their classroom pet. So\, Montessori was all in the family.  \nContact her via email at cassimackey11@gmail.com. \n  \n 
URL:https://www.sarasotauniversity.edu/event/free-montessori-colloquium-courageous-conversation-with-cassi-mackey/
ATTACH;FMTTYPE=image/png:https://www.sarasotauniversity.edu/wp-content/uploads/2024/03/Cassi-Mackey-e1709659226610.png
END:VEVENT
END:VCALENDAR