BEGIN:VCALENDAR
VERSION:2.0
PRODID:-//Sarasota University - ECPv6.15.20//NONSGML v1.0//EN
CALSCALE:GREGORIAN
METHOD:PUBLISH
X-WR-CALNAME:Sarasota University
X-ORIGINAL-URL:https://www.sarasotauniversity.edu
X-WR-CALDESC:Events for Sarasota University
REFRESH-INTERVAL;VALUE=DURATION:PT1H
X-Robots-Tag:noindex
X-PUBLISHED-TTL:PT1H
BEGIN:VTIMEZONE
TZID:America/New_York
BEGIN:DAYLIGHT
TZOFFSETFROM:-0500
TZOFFSETTO:-0400
TZNAME:EDT
DTSTART:20230312T070000
END:DAYLIGHT
BEGIN:STANDARD
TZOFFSETFROM:-0400
TZOFFSETTO:-0500
TZNAME:EST
DTSTART:20231105T060000
END:STANDARD
BEGIN:DAYLIGHT
TZOFFSETFROM:-0500
TZOFFSETTO:-0400
TZNAME:EDT
DTSTART:20240310T070000
END:DAYLIGHT
BEGIN:STANDARD
TZOFFSETFROM:-0400
TZOFFSETTO:-0500
TZNAME:EST
DTSTART:20241103T060000
END:STANDARD
BEGIN:DAYLIGHT
TZOFFSETFROM:-0500
TZOFFSETTO:-0400
TZNAME:EDT
DTSTART:20250309T070000
END:DAYLIGHT
BEGIN:STANDARD
TZOFFSETFROM:-0400
TZOFFSETTO:-0500
TZNAME:EST
DTSTART:20251102T060000
END:STANDARD
END:VTIMEZONE
BEGIN:VEVENT
DTSTART;TZID=America/New_York:20240416T190000
DTEND;TZID=America/New_York:20240416T203000
DTSTAMP:20260423T071002
CREATED:20240409T140743Z
LAST-MODIFIED:20240409T140743Z
UID:16674-1713294000-1713299400@www.sarasotauniversity.edu
SUMMARY:(FREE) Montessori Colloquium: Navigating AI Conversations: Empowering Educators and Students with Dana Anderson
DESCRIPTION:Join Sarasota University and Dana Anderson on April 16th at 7 p.m. ET for an insightful webinar on Navigating AI conversations in a manner that empowers educators and students. \nDuring this colloquium\, Dana Anderson\, MS\, will discuss ways Montessorians can learn about\, experiment with\, and discuss AI with our fellow educators and students\, as well as why it’s vital to maintain a Montessori-based approach when doing so. Whether it’s understanding the basics of AI in the midst of rapid progress and the ethical considerations when introducing AI to the classroom or simply student engagement and personal use\, let’s talk about how Maria Montessori has\, as usual\, given us the framework and tools to guide us into guiding students through the next global evolution\, one child at a time.\n\nPlease register in advance for this meeting\, and feel free to share the registration link with your friends and colleagues:\n\nhttps://zoom.us/meeting/register/tJ0tduqgqDIqHdBKhZDbWq9RRWXCGNZyZlL0 \nAfter registering\, you will receive a confirmation email containing information about joining the meeting. \n\nAbout Dana Anderson: \nDana Anderson\, MS\, is a Montessori educator\, kids’ digital content expert\, writer\, and mom of three. She is Montessori Primary and Lower Elementary certified and is currently in Secondary training. For more than 15 years through her work with tech companies\, schools\, and nonprofits\, Dana has worked to provide high-quality digital content for children and adolescents as well as amplify youth voices on issues that affect their lives online and offline\, especially as it relates to education and inclusion.\n\n\n 
URL:https://www.sarasotauniversity.edu/event/free-montessori-colloquium-navigating-ai-conversations-empowering-educators-and-students-with-dana-anderson/
ATTACH;FMTTYPE=image/png:https://www.sarasotauniversity.edu/wp-content/uploads/2024/04/First-SU-SU-e1712671649101.png
END:VEVENT
END:VCALENDAR