BEGIN:VCALENDAR
VERSION:2.0
PRODID:-//Sarasota University - ECPv6.15.20//NONSGML v1.0//EN
CALSCALE:GREGORIAN
METHOD:PUBLISH
X-ORIGINAL-URL:https://www.sarasotauniversity.edu
X-WR-CALDESC:Events for Sarasota University
REFRESH-INTERVAL;VALUE=DURATION:PT1H
X-Robots-Tag:noindex
X-PUBLISHED-TTL:PT1H
BEGIN:VTIMEZONE
TZID:America/New_York
BEGIN:DAYLIGHT
TZOFFSETFROM:-0500
TZOFFSETTO:-0400
TZNAME:EDT
DTSTART:20230312T070000
END:DAYLIGHT
BEGIN:STANDARD
TZOFFSETFROM:-0400
TZOFFSETTO:-0500
TZNAME:EST
DTSTART:20231105T060000
END:STANDARD
BEGIN:DAYLIGHT
TZOFFSETFROM:-0500
TZOFFSETTO:-0400
TZNAME:EDT
DTSTART:20240310T070000
END:DAYLIGHT
BEGIN:STANDARD
TZOFFSETFROM:-0400
TZOFFSETTO:-0500
TZNAME:EST
DTSTART:20241103T060000
END:STANDARD
BEGIN:DAYLIGHT
TZOFFSETFROM:-0500
TZOFFSETTO:-0400
TZNAME:EDT
DTSTART:20250309T070000
END:DAYLIGHT
BEGIN:STANDARD
TZOFFSETFROM:-0400
TZOFFSETTO:-0500
TZNAME:EST
DTSTART:20251102T060000
END:STANDARD
END:VTIMEZONE
BEGIN:VEVENT
DTSTART;TZID=America/New_York:20240902T080000
DTEND;TZID=America/New_York:20240902T170000
DTSTAMP:20260423T082224
CREATED:20240807T145926Z
LAST-MODIFIED:20240807T145926Z
UID:17135-1725264000-1725296400@www.sarasotauniversity.edu
SUMMARY:Labor Day
DESCRIPTION:
URL:https://www.sarasotauniversity.edu/event/labor-day/
END:VEVENT
BEGIN:VEVENT
DTSTART;TZID=America/New_York:20240905T080000
DTEND;TZID=America/New_York:20240905T170000
DTSTAMP:20260423T082224
CREATED:20240807T145954Z
LAST-MODIFIED:20240807T150033Z
UID:17137-1725523200-1725555600@www.sarasotauniversity.edu
SUMMARY:International Day of Charity
DESCRIPTION:
URL:https://www.sarasotauniversity.edu/event/international-day-of-charity/
CATEGORIES:Special Dates
END:VEVENT
BEGIN:VEVENT
DTSTART;TZID=America/New_York:20240910T200000
DTEND;TZID=America/New_York:20240910T210000
DTSTAMP:20260423T082224
CREATED:20240822T202734Z
LAST-MODIFIED:20240828T133626Z
UID:17183-1725998400-1726002000@www.sarasotauniversity.edu
SUMMARY:Virtual Information Session: Dual Enrollment Option
DESCRIPTION: Sarasota University Virtual Information Session: Dual Enrollment Option \nJoin this free information session to learn more about our innovative dual enrollment program. Combine your passion for Montessori Education with academic excellence. Our experienced faculty will guide you through the process of earning both your Montessori teacher credential and your college degree simultaneously. Don’t miss this opportunity to gain a competitive edge in the field of education. \n\n\nHere’s what you can expect:\n\nMeet the CGMS & SU Faculty: Interact with our dedicated team of Montessori experts and gain firsthand knowledge about our programs.\nProgram Details Unveiled: Explore our comprehensive curriculum\, learning format\, and the diverse career paths available after certification.\nInteractive Q&A Session: Have your specific questions addressed by our admissions advisors to ensure CGMS aligns perfectly with your aspirations.\nSeamless Dual Enrollment Option: Learn about the seamless integration of Montessori training and higher education.\n\n\n How to Join: Click to Register Now \nAfter you’ve completed this registration you will be sent a confirmation email with event details and a meeting link! \n Learn More: For a sneak peek into the world of CGMS Certificate Programs visit www.cgms.edu to explore detailed program information.
URL:https://www.sarasotauniversity.edu/event/virtual-information-session-dual-enrollment-option-2/
END:VEVENT
BEGIN:VEVENT
DTSTART;TZID=America/New_York:20240915T080000
DTEND;TZID=America/New_York:20241015T170000
DTSTAMP:20260423T082224
CREATED:20240807T150111Z
LAST-MODIFIED:20240807T150111Z
UID:17139-1726387200-1729011600@www.sarasotauniversity.edu
SUMMARY:Hispanic Heritage Month
DESCRIPTION:
URL:https://www.sarasotauniversity.edu/event/hispanic-heritage-month/
CATEGORIES:Special Dates
END:VEVENT
BEGIN:VEVENT
DTSTART;TZID=America/New_York:20240917T190000
DTEND;TZID=America/New_York:20240917T200000
DTSTAMP:20260423T082224
CREATED:20240905T164822Z
LAST-MODIFIED:20240905T164822Z
UID:17274-1726599600-1726603200@www.sarasotauniversity.edu
SUMMARY:(FREE) Montessori Colloquium: Demystifying Dyslexia
DESCRIPTION:Join Sarasota University and Holli Forrest on September 17th at 7 p.m. ET for an insightful webinar on Demystifying Dyslexia.\n\nDyslexia\, one of the most common learning disabilities\, is often misunderstood. In this webinar\, we’ll dispel common myths and provide a clear understanding of its characteristics\, identification process\, and effective evidence-based interventions. \nKey takeaways: \n\nDebunk dyslexia myths: Learn the truth about dyslexia and what it really means.\nUnderstand the characteristics: Discover the unique ways dyslexia can manifest.\nLearn about identification: Understand how dyslexia is diagnosed.\nExplore effective interventions: Discover evidence-based strategies to support individuals with dyslexia.\n\nDon’t miss this opportunity to gain valuable insights into dyslexia. Register now for this free webinar! \n\n\nPlease register in advance for this meeting\, and feel free to share the registration link with your friends and colleagues:\n\nhttps://zoom.us/meeting/register/tJ0tduqgqDIqHdBKhZDbWq9RRWXCGNZyZlL0 \nAfter registering\, you will receive a confirmation email containing information about joining the meeting. \n\n\nAbout Holli Forrest:\nHolli Forrest is a special education leader with a doctorate in special populations leadership. She has over 18 years of experience in teaching from pre-kindergarten to the college level and has served as a district leader in the Houston Independent School District. Currently\, she is a faculty member at Sarasota University and Blinn College and also provides dyslexia therapy in private practice to children and adults.
URL:https://www.sarasotauniversity.edu/event/free-montessori-colloquium-demystifying-dyslexia/
ATTACH;FMTTYPE=image/png:https://www.sarasotauniversity.edu/wp-content/uploads/2024/09/Holli.png
END:VEVENT
BEGIN:VEVENT
DTSTART;TZID=America/New_York:20240919T200000
DTEND;TZID=America/New_York:20240919T210000
DTSTAMP:20260423T082224
CREATED:20240822T202927Z
LAST-MODIFIED:20240828T133802Z
UID:17185-1726776000-1726779600@www.sarasotauniversity.edu
SUMMARY:Virtual Information Session: Dual Enrollment Option
DESCRIPTION: Sarasota University Virtual Information Session: Dual Enrollment Option \nJoin this free information session to learn more about our innovative dual enrollment program. Combine your passion for Montessori Education with academic excellence. Our experienced faculty will guide you through the process of earning both your Montessori teacher credential and your college degree simultaneously. Don’t miss this opportunity to gain a competitive edge in the field of education. \n\n\nHere’s what you can expect:\n\nMeet the CGMS & SU Faculty: Interact with our dedicated team of Montessori experts and gain firsthand knowledge about our programs.\nProgram Details Unveiled: Explore our comprehensive curriculum\, learning format\, and the diverse career paths available after certification.\nInteractive Q&A Session: Have your specific questions addressed by our admissions advisors to ensure CGMS aligns perfectly with your aspirations.\nSeamless Dual Enrollment Option: Learn about the seamless integration of Montessori training and higher education.\n\n\n How to Join: Register Here: Click to Register Here \nAfter you’ve completed this registration you will be sent a confirmation email with event details and a meeting link! \n Learn More: For a sneak peek into the world of CGMS Certificate Programs visit www.cgms.edu to explore detailed program information.
URL:https://www.sarasotauniversity.edu/event/virtual-information-session-dual-enrollment-option-3/
END:VEVENT
BEGIN:VEVENT
DTSTART;TZID=America/New_York:20240921T080000
DTEND;TZID=America/New_York:20240921T170000
DTSTAMP:20260423T082224
CREATED:20240807T150134Z
LAST-MODIFIED:20240807T150134Z
UID:17141-1726905600-1726938000@www.sarasotauniversity.edu
SUMMARY:International Day of Peace
DESCRIPTION:
URL:https://www.sarasotauniversity.edu/event/international-day-of-peace/
CATEGORIES:Special Dates
END:VEVENT
END:VCALENDAR